BEGIN:VCALENDAR
VERSION:2.0
PRODID:-//Casino Pier &amp; Breakwater Beach - ECPv6.15.20//NONSGML v1.0//EN
CALSCALE:GREGORIAN
METHOD:PUBLISH
X-WR-CALNAME:Casino Pier &amp; Breakwater Beach
X-ORIGINAL-URL:https://casinopiernj.com
X-WR-CALDESC:Events for Casino Pier &amp; Breakwater Beach
REFRESH-INTERVAL;VALUE=DURATION:PT1H
X-Robots-Tag:noindex
X-PUBLISHED-TTL:PT1H
BEGIN:VTIMEZONE
TZID:America/New_York
BEGIN:DAYLIGHT
TZOFFSETFROM:-0500
TZOFFSETTO:-0400
TZNAME:EDT
DTSTART:20250309T070000
END:DAYLIGHT
BEGIN:STANDARD
TZOFFSETFROM:-0400
TZOFFSETTO:-0500
TZNAME:EST
DTSTART:20251102T060000
END:STANDARD
BEGIN:DAYLIGHT
TZOFFSETFROM:-0500
TZOFFSETTO:-0400
TZNAME:EDT
DTSTART:20260308T070000
END:DAYLIGHT
BEGIN:STANDARD
TZOFFSETFROM:-0400
TZOFFSETTO:-0500
TZNAME:EST
DTSTART:20261101T060000
END:STANDARD
BEGIN:DAYLIGHT
TZOFFSETFROM:-0500
TZOFFSETTO:-0400
TZNAME:EDT
DTSTART:20270314T070000
END:DAYLIGHT
BEGIN:STANDARD
TZOFFSETFROM:-0400
TZOFFSETTO:-0500
TZNAME:EST
DTSTART:20271107T060000
END:STANDARD
END:VTIMEZONE
BEGIN:VEVENT
DTSTART;TZID=America/New_York:20260822T170000
DTEND;TZID=America/New_York:20260822T170000
DTSTAMP:20260422T080044
CREATED:20260330T160136Z
LAST-MODIFIED:20260417T165056Z
UID:10016191-1787418000-1787418000@casinopiernj.com
SUMMARY:Denise Whalen Carey Crab Race
DESCRIPTION:Get ready for one of the most beloved traditions of the summer — the Denise Whalen Carey Crab Race at Breakwater Beach Waterpark! 🦀☀️ \nJoin us for a day full of fun and friendly competition as hundreds of plastic crabs race their way down Patriot’s Plunge into the Revolutionary River in support of a meaningful cause. This special event honors Denise Whalen Carey and brings our community together for an unforgettable experience at the park. \nAdopt your crab\, cheer it on\, and you could be the lucky winner of exciting prizes! Whether you’re racing or just soaking up the energy\, it’s a can’t-miss highlight of the season for families and friends of all ages. \nMake a splash\, support a great cause\, and be part of the excitement at the Denise Whalen Carey Crab Race — only at Breakwater Beach Waterpark! \nDenise Whalen Carey was a former manager at Breakwater Beach who lost her battle of cancer. \nShe put her heart into the events and birthday parties at the park. She is terribly missed and we are now honoring her in our annual Crab Race. \nYou can purchase your “crab” for only $5 starting August 1st. You can purchase your crabs at the admission windows at the Waterpark Entrance. \nCrabs may be purchased online for $5.50 per crab. The winning crab gets $100 and a 10 all-day passes to Breakwater Beach for the 2027 season. A lot of other prizes will be awarded to the first 100 crabs who win the race. \nProceeds from the event go directly to Sloan Kettering Cancer Center in hopes of finding a cure for Cancer. \nYou do not need to be present at the event to win a prize; you can still make the donation for the crab entry. \nPlease note: your donation does not include admission to the park
URL:https://casinopiernj.com/event/denise-whalen-carey-crab-race/
CATEGORIES:Special Event
ATTACH;FMTTYPE=image/jpeg:https://casinopiernj.com/wp-content/uploads/2026/03/Crab-Race_Web-Block.jpg
END:VEVENT
END:VCALENDAR