BEGIN:VCALENDAR
VERSION:2.0
PRODID:-//Casino Pier &amp; Breakwater Beach - ECPv6.15.20//NONSGML v1.0//EN
CALSCALE:GREGORIAN
METHOD:PUBLISH
X-ORIGINAL-URL:https://casinopiernj.com
X-WR-CALDESC:Events for Casino Pier &amp; Breakwater Beach
REFRESH-INTERVAL;VALUE=DURATION:PT1H
X-Robots-Tag:noindex
X-PUBLISHED-TTL:PT1H
BEGIN:VTIMEZONE
TZID:America/New_York
BEGIN:DAYLIGHT
TZOFFSETFROM:-0500
TZOFFSETTO:-0400
TZNAME:EDT
DTSTART:20250309T070000
END:DAYLIGHT
BEGIN:STANDARD
TZOFFSETFROM:-0400
TZOFFSETTO:-0500
TZNAME:EST
DTSTART:20251102T060000
END:STANDARD
BEGIN:DAYLIGHT
TZOFFSETFROM:-0500
TZOFFSETTO:-0400
TZNAME:EDT
DTSTART:20260308T070000
END:DAYLIGHT
BEGIN:STANDARD
TZOFFSETFROM:-0400
TZOFFSETTO:-0500
TZNAME:EST
DTSTART:20261101T060000
END:STANDARD
BEGIN:DAYLIGHT
TZOFFSETFROM:-0500
TZOFFSETTO:-0400
TZNAME:EDT
DTSTART:20270314T070000
END:DAYLIGHT
BEGIN:STANDARD
TZOFFSETFROM:-0400
TZOFFSETTO:-0500
TZNAME:EST
DTSTART:20271107T060000
END:STANDARD
END:VTIMEZONE
BEGIN:VEVENT
DTSTART;TZID=America/New_York:20260724T110000
DTEND;TZID=America/New_York:20260724T110000
DTSTAMP:20260421T044007
CREATED:20260220T172600Z
LAST-MODIFIED:20260220T172600Z
UID:10015164-1784890800-1784890800@casinopiernj.com
SUMMARY:Arcade Open
DESCRIPTION:Arcade Open \nClosing times vary
URL:https://casinopiernj.com/event/arcade-open-5/2026-07-24/
CATEGORIES:Casino Pier
ATTACH;FMTTYPE=image/jpeg:https://casinopiernj.com/wp-content/uploads/2022/03/Arcade-Calendar-2.jpg
END:VEVENT
BEGIN:VEVENT
DTSTART;TZID=America/New_York:20260725T110000
DTEND;TZID=America/New_York:20260725T110000
DTSTAMP:20260421T044007
CREATED:20260220T172600Z
LAST-MODIFIED:20260220T172600Z
UID:10015165-1784977200-1784977200@casinopiernj.com
SUMMARY:Arcade Open
DESCRIPTION:Arcade Open \nClosing times vary
URL:https://casinopiernj.com/event/arcade-open-5/2026-07-25/
CATEGORIES:Casino Pier
ATTACH;FMTTYPE=image/jpeg:https://casinopiernj.com/wp-content/uploads/2022/03/Arcade-Calendar-2.jpg
END:VEVENT
BEGIN:VEVENT
DTSTART;TZID=America/New_York:20260726T110000
DTEND;TZID=America/New_York:20260726T110000
DTSTAMP:20260421T044007
CREATED:20260220T172600Z
LAST-MODIFIED:20260220T172600Z
UID:10015166-1785063600-1785063600@casinopiernj.com
SUMMARY:Arcade Open
DESCRIPTION:Arcade Open \nClosing times vary
URL:https://casinopiernj.com/event/arcade-open-5/2026-07-26/
CATEGORIES:Casino Pier
ATTACH;FMTTYPE=image/jpeg:https://casinopiernj.com/wp-content/uploads/2022/03/Arcade-Calendar-2.jpg
END:VEVENT
BEGIN:VEVENT
DTSTART;TZID=America/New_York:20260727T110000
DTEND;TZID=America/New_York:20260727T110000
DTSTAMP:20260421T044007
CREATED:20260220T172600Z
LAST-MODIFIED:20260220T172600Z
UID:10015167-1785150000-1785150000@casinopiernj.com
SUMMARY:Arcade Open
DESCRIPTION:Arcade Open \nClosing times vary
URL:https://casinopiernj.com/event/arcade-open-5/2026-07-27/
CATEGORIES:Casino Pier
ATTACH;FMTTYPE=image/jpeg:https://casinopiernj.com/wp-content/uploads/2022/03/Arcade-Calendar-2.jpg
END:VEVENT
BEGIN:VEVENT
DTSTART;TZID=America/New_York:20260728T110000
DTEND;TZID=America/New_York:20260728T110000
DTSTAMP:20260421T044007
CREATED:20260220T172600Z
LAST-MODIFIED:20260220T172600Z
UID:10015168-1785236400-1785236400@casinopiernj.com
SUMMARY:Arcade Open
DESCRIPTION:Arcade Open \nClosing times vary
URL:https://casinopiernj.com/event/arcade-open-5/2026-07-28/
CATEGORIES:Casino Pier
ATTACH;FMTTYPE=image/jpeg:https://casinopiernj.com/wp-content/uploads/2022/03/Arcade-Calendar-2.jpg
END:VEVENT
BEGIN:VEVENT
DTSTART;TZID=America/New_York:20260729T110000
DTEND;TZID=America/New_York:20260729T110000
DTSTAMP:20260421T044007
CREATED:20260220T172600Z
LAST-MODIFIED:20260220T172600Z
UID:10015169-1785322800-1785322800@casinopiernj.com
SUMMARY:Arcade Open
DESCRIPTION:Arcade Open \nClosing times vary
URL:https://casinopiernj.com/event/arcade-open-5/2026-07-29/
CATEGORIES:Casino Pier
ATTACH;FMTTYPE=image/jpeg:https://casinopiernj.com/wp-content/uploads/2022/03/Arcade-Calendar-2.jpg
END:VEVENT
BEGIN:VEVENT
DTSTART;TZID=America/New_York:20260730T110000
DTEND;TZID=America/New_York:20260730T110000
DTSTAMP:20260421T044007
CREATED:20260220T172600Z
LAST-MODIFIED:20260220T172600Z
UID:10015170-1785409200-1785409200@casinopiernj.com
SUMMARY:Arcade Open
DESCRIPTION:Arcade Open \nClosing times vary
URL:https://casinopiernj.com/event/arcade-open-5/2026-07-30/
CATEGORIES:Casino Pier
ATTACH;FMTTYPE=image/jpeg:https://casinopiernj.com/wp-content/uploads/2022/03/Arcade-Calendar-2.jpg
END:VEVENT
BEGIN:VEVENT
DTSTART;TZID=America/New_York:20260731T110000
DTEND;TZID=America/New_York:20260731T110000
DTSTAMP:20260421T044007
CREATED:20260220T172600Z
LAST-MODIFIED:20260220T172600Z
UID:10015171-1785495600-1785495600@casinopiernj.com
SUMMARY:Arcade Open
DESCRIPTION:Arcade Open \nClosing times vary
URL:https://casinopiernj.com/event/arcade-open-5/2026-07-31/
CATEGORIES:Casino Pier
ATTACH;FMTTYPE=image/jpeg:https://casinopiernj.com/wp-content/uploads/2022/03/Arcade-Calendar-2.jpg
END:VEVENT
BEGIN:VEVENT
DTSTART;TZID=America/New_York:20260801T110000
DTEND;TZID=America/New_York:20260801T110000
DTSTAMP:20260421T044007
CREATED:20260220T172600Z
LAST-MODIFIED:20260220T172600Z
UID:10015172-1785582000-1785582000@casinopiernj.com
SUMMARY:Arcade Open
DESCRIPTION:Arcade Open \nClosing times vary
URL:https://casinopiernj.com/event/arcade-open-5/2026-08-01/
CATEGORIES:Casino Pier
ATTACH;FMTTYPE=image/jpeg:https://casinopiernj.com/wp-content/uploads/2022/03/Arcade-Calendar-2.jpg
END:VEVENT
BEGIN:VEVENT
DTSTART;TZID=America/New_York:20260802T110000
DTEND;TZID=America/New_York:20260802T110000
DTSTAMP:20260421T044007
CREATED:20260220T172600Z
LAST-MODIFIED:20260220T172600Z
UID:10015173-1785668400-1785668400@casinopiernj.com
SUMMARY:Arcade Open
DESCRIPTION:Arcade Open \nClosing times vary
URL:https://casinopiernj.com/event/arcade-open-5/2026-08-02/
CATEGORIES:Casino Pier
ATTACH;FMTTYPE=image/jpeg:https://casinopiernj.com/wp-content/uploads/2022/03/Arcade-Calendar-2.jpg
END:VEVENT
BEGIN:VEVENT
DTSTART;TZID=America/New_York:20260803T110000
DTEND;TZID=America/New_York:20260803T110000
DTSTAMP:20260421T044007
CREATED:20260220T172600Z
LAST-MODIFIED:20260220T172600Z
UID:10015174-1785754800-1785754800@casinopiernj.com
SUMMARY:Arcade Open
DESCRIPTION:Arcade Open \nClosing times vary
URL:https://casinopiernj.com/event/arcade-open-5/2026-08-03/
CATEGORIES:Casino Pier
ATTACH;FMTTYPE=image/jpeg:https://casinopiernj.com/wp-content/uploads/2022/03/Arcade-Calendar-2.jpg
END:VEVENT
BEGIN:VEVENT
DTSTART;TZID=America/New_York:20260804T110000
DTEND;TZID=America/New_York:20260804T110000
DTSTAMP:20260421T044007
CREATED:20260220T172600Z
LAST-MODIFIED:20260220T172600Z
UID:10015175-1785841200-1785841200@casinopiernj.com
SUMMARY:Arcade Open
DESCRIPTION:Arcade Open \nClosing times vary
URL:https://casinopiernj.com/event/arcade-open-5/2026-08-04/
CATEGORIES:Casino Pier
ATTACH;FMTTYPE=image/jpeg:https://casinopiernj.com/wp-content/uploads/2022/03/Arcade-Calendar-2.jpg
END:VEVENT
BEGIN:VEVENT
DTSTART;TZID=America/New_York:20260805T110000
DTEND;TZID=America/New_York:20260805T110000
DTSTAMP:20260421T044007
CREATED:20260220T172600Z
LAST-MODIFIED:20260220T172600Z
UID:10015176-1785927600-1785927600@casinopiernj.com
SUMMARY:Arcade Open
DESCRIPTION:Arcade Open \nClosing times vary
URL:https://casinopiernj.com/event/arcade-open-5/2026-08-05/
CATEGORIES:Casino Pier
ATTACH;FMTTYPE=image/jpeg:https://casinopiernj.com/wp-content/uploads/2022/03/Arcade-Calendar-2.jpg
END:VEVENT
BEGIN:VEVENT
DTSTART;TZID=America/New_York:20260806T110000
DTEND;TZID=America/New_York:20260806T110000
DTSTAMP:20260421T044007
CREATED:20260220T172600Z
LAST-MODIFIED:20260220T172600Z
UID:10015177-1786014000-1786014000@casinopiernj.com
SUMMARY:Arcade Open
DESCRIPTION:Arcade Open \nClosing times vary
URL:https://casinopiernj.com/event/arcade-open-5/2026-08-06/
CATEGORIES:Casino Pier
ATTACH;FMTTYPE=image/jpeg:https://casinopiernj.com/wp-content/uploads/2022/03/Arcade-Calendar-2.jpg
END:VEVENT
BEGIN:VEVENT
DTSTART;TZID=America/New_York:20260807T110000
DTEND;TZID=America/New_York:20260807T110000
DTSTAMP:20260421T044007
CREATED:20260220T172600Z
LAST-MODIFIED:20260220T172600Z
UID:10015178-1786100400-1786100400@casinopiernj.com
SUMMARY:Arcade Open
DESCRIPTION:Arcade Open \nClosing times vary
URL:https://casinopiernj.com/event/arcade-open-5/2026-08-07/
CATEGORIES:Casino Pier
ATTACH;FMTTYPE=image/jpeg:https://casinopiernj.com/wp-content/uploads/2022/03/Arcade-Calendar-2.jpg
END:VEVENT
BEGIN:VEVENT
DTSTART;TZID=America/New_York:20260808T110000
DTEND;TZID=America/New_York:20260808T110000
DTSTAMP:20260421T044007
CREATED:20260220T172600Z
LAST-MODIFIED:20260220T172600Z
UID:10015179-1786186800-1786186800@casinopiernj.com
SUMMARY:Arcade Open
DESCRIPTION:Arcade Open \nClosing times vary
URL:https://casinopiernj.com/event/arcade-open-5/2026-08-08/
CATEGORIES:Casino Pier
ATTACH;FMTTYPE=image/jpeg:https://casinopiernj.com/wp-content/uploads/2022/03/Arcade-Calendar-2.jpg
END:VEVENT
BEGIN:VEVENT
DTSTART;TZID=America/New_York:20260809T110000
DTEND;TZID=America/New_York:20260809T110000
DTSTAMP:20260421T044007
CREATED:20260220T172600Z
LAST-MODIFIED:20260220T172600Z
UID:10015180-1786273200-1786273200@casinopiernj.com
SUMMARY:Arcade Open
DESCRIPTION:Arcade Open \nClosing times vary
URL:https://casinopiernj.com/event/arcade-open-5/2026-08-09/
CATEGORIES:Casino Pier
ATTACH;FMTTYPE=image/jpeg:https://casinopiernj.com/wp-content/uploads/2022/03/Arcade-Calendar-2.jpg
END:VEVENT
BEGIN:VEVENT
DTSTART;TZID=America/New_York:20260810T110000
DTEND;TZID=America/New_York:20260810T110000
DTSTAMP:20260421T044007
CREATED:20260220T172600Z
LAST-MODIFIED:20260220T172600Z
UID:10015181-1786359600-1786359600@casinopiernj.com
SUMMARY:Arcade Open
DESCRIPTION:Arcade Open \nClosing times vary
URL:https://casinopiernj.com/event/arcade-open-5/2026-08-10/
CATEGORIES:Casino Pier
ATTACH;FMTTYPE=image/jpeg:https://casinopiernj.com/wp-content/uploads/2022/03/Arcade-Calendar-2.jpg
END:VEVENT
BEGIN:VEVENT
DTSTART;TZID=America/New_York:20260811T110000
DTEND;TZID=America/New_York:20260811T110000
DTSTAMP:20260421T044008
CREATED:20260220T172600Z
LAST-MODIFIED:20260220T172600Z
UID:10015182-1786446000-1786446000@casinopiernj.com
SUMMARY:Arcade Open
DESCRIPTION:Arcade Open \nClosing times vary
URL:https://casinopiernj.com/event/arcade-open-5/2026-08-11/
CATEGORIES:Casino Pier
ATTACH;FMTTYPE=image/jpeg:https://casinopiernj.com/wp-content/uploads/2022/03/Arcade-Calendar-2.jpg
END:VEVENT
BEGIN:VEVENT
DTSTART;TZID=America/New_York:20260812T110000
DTEND;TZID=America/New_York:20260812T110000
DTSTAMP:20260421T044008
CREATED:20260220T172600Z
LAST-MODIFIED:20260220T172600Z
UID:10015183-1786532400-1786532400@casinopiernj.com
SUMMARY:Arcade Open
DESCRIPTION:Arcade Open \nClosing times vary
URL:https://casinopiernj.com/event/arcade-open-5/2026-08-12/
CATEGORIES:Casino Pier
ATTACH;FMTTYPE=image/jpeg:https://casinopiernj.com/wp-content/uploads/2022/03/Arcade-Calendar-2.jpg
END:VEVENT
BEGIN:VEVENT
DTSTART;TZID=America/New_York:20260813T110000
DTEND;TZID=America/New_York:20260813T110000
DTSTAMP:20260421T044008
CREATED:20260220T172600Z
LAST-MODIFIED:20260220T172600Z
UID:10015184-1786618800-1786618800@casinopiernj.com
SUMMARY:Arcade Open
DESCRIPTION:Arcade Open \nClosing times vary
URL:https://casinopiernj.com/event/arcade-open-5/2026-08-13/
CATEGORIES:Casino Pier
ATTACH;FMTTYPE=image/jpeg:https://casinopiernj.com/wp-content/uploads/2022/03/Arcade-Calendar-2.jpg
END:VEVENT
BEGIN:VEVENT
DTSTART;TZID=America/New_York:20260814T110000
DTEND;TZID=America/New_York:20260814T110000
DTSTAMP:20260421T044008
CREATED:20260220T172600Z
LAST-MODIFIED:20260220T172600Z
UID:10015185-1786705200-1786705200@casinopiernj.com
SUMMARY:Arcade Open
DESCRIPTION:Arcade Open \nClosing times vary
URL:https://casinopiernj.com/event/arcade-open-5/2026-08-14/
CATEGORIES:Casino Pier
ATTACH;FMTTYPE=image/jpeg:https://casinopiernj.com/wp-content/uploads/2022/03/Arcade-Calendar-2.jpg
END:VEVENT
BEGIN:VEVENT
DTSTART;TZID=America/New_York:20260815T110000
DTEND;TZID=America/New_York:20260815T110000
DTSTAMP:20260421T044008
CREATED:20260220T172600Z
LAST-MODIFIED:20260220T172600Z
UID:10015186-1786791600-1786791600@casinopiernj.com
SUMMARY:Arcade Open
DESCRIPTION:Arcade Open \nClosing times vary
URL:https://casinopiernj.com/event/arcade-open-5/2026-08-15/
CATEGORIES:Casino Pier
ATTACH;FMTTYPE=image/jpeg:https://casinopiernj.com/wp-content/uploads/2022/03/Arcade-Calendar-2.jpg
END:VEVENT
BEGIN:VEVENT
DTSTART;TZID=America/New_York:20260816T110000
DTEND;TZID=America/New_York:20260816T110000
DTSTAMP:20260421T044008
CREATED:20260220T172600Z
LAST-MODIFIED:20260220T172600Z
UID:10015187-1786878000-1786878000@casinopiernj.com
SUMMARY:Arcade Open
DESCRIPTION:Arcade Open \nClosing times vary
URL:https://casinopiernj.com/event/arcade-open-5/2026-08-16/
CATEGORIES:Casino Pier
ATTACH;FMTTYPE=image/jpeg:https://casinopiernj.com/wp-content/uploads/2022/03/Arcade-Calendar-2.jpg
END:VEVENT
BEGIN:VEVENT
DTSTART;TZID=America/New_York:20260817T110000
DTEND;TZID=America/New_York:20260817T110000
DTSTAMP:20260421T044008
CREATED:20260220T172600Z
LAST-MODIFIED:20260220T172600Z
UID:10015188-1786964400-1786964400@casinopiernj.com
SUMMARY:Arcade Open
DESCRIPTION:Arcade Open \nClosing times vary
URL:https://casinopiernj.com/event/arcade-open-5/2026-08-17/
CATEGORIES:Casino Pier
ATTACH;FMTTYPE=image/jpeg:https://casinopiernj.com/wp-content/uploads/2022/03/Arcade-Calendar-2.jpg
END:VEVENT
BEGIN:VEVENT
DTSTART;TZID=America/New_York:20260818T110000
DTEND;TZID=America/New_York:20260818T110000
DTSTAMP:20260421T044008
CREATED:20260220T172600Z
LAST-MODIFIED:20260220T172600Z
UID:10015189-1787050800-1787050800@casinopiernj.com
SUMMARY:Arcade Open
DESCRIPTION:Arcade Open \nClosing times vary
URL:https://casinopiernj.com/event/arcade-open-5/2026-08-18/
CATEGORIES:Casino Pier
ATTACH;FMTTYPE=image/jpeg:https://casinopiernj.com/wp-content/uploads/2022/03/Arcade-Calendar-2.jpg
END:VEVENT
BEGIN:VEVENT
DTSTART;TZID=America/New_York:20260819T110000
DTEND;TZID=America/New_York:20260819T110000
DTSTAMP:20260421T044008
CREATED:20260220T172600Z
LAST-MODIFIED:20260220T172600Z
UID:10015190-1787137200-1787137200@casinopiernj.com
SUMMARY:Arcade Open
DESCRIPTION:Arcade Open \nClosing times vary
URL:https://casinopiernj.com/event/arcade-open-5/2026-08-19/
CATEGORIES:Casino Pier
ATTACH;FMTTYPE=image/jpeg:https://casinopiernj.com/wp-content/uploads/2022/03/Arcade-Calendar-2.jpg
END:VEVENT
BEGIN:VEVENT
DTSTART;TZID=America/New_York:20260820T110000
DTEND;TZID=America/New_York:20260820T110000
DTSTAMP:20260421T044008
CREATED:20260220T172600Z
LAST-MODIFIED:20260220T172600Z
UID:10015191-1787223600-1787223600@casinopiernj.com
SUMMARY:Arcade Open
DESCRIPTION:Arcade Open \nClosing times vary
URL:https://casinopiernj.com/event/arcade-open-5/2026-08-20/
CATEGORIES:Casino Pier
ATTACH;FMTTYPE=image/jpeg:https://casinopiernj.com/wp-content/uploads/2022/03/Arcade-Calendar-2.jpg
END:VEVENT
BEGIN:VEVENT
DTSTART;TZID=America/New_York:20260821T110000
DTEND;TZID=America/New_York:20260821T110000
DTSTAMP:20260421T044008
CREATED:20260220T172600Z
LAST-MODIFIED:20260220T172600Z
UID:10015192-1787310000-1787310000@casinopiernj.com
SUMMARY:Arcade Open
DESCRIPTION:Arcade Open \nClosing times vary
URL:https://casinopiernj.com/event/arcade-open-5/2026-08-21/
CATEGORIES:Casino Pier
ATTACH;FMTTYPE=image/jpeg:https://casinopiernj.com/wp-content/uploads/2022/03/Arcade-Calendar-2.jpg
END:VEVENT
BEGIN:VEVENT
DTSTART;TZID=America/New_York:20260822T110000
DTEND;TZID=America/New_York:20260822T110000
DTSTAMP:20260421T044008
CREATED:20260220T172600Z
LAST-MODIFIED:20260220T172600Z
UID:10015193-1787396400-1787396400@casinopiernj.com
SUMMARY:Arcade Open
DESCRIPTION:Arcade Open \nClosing times vary
URL:https://casinopiernj.com/event/arcade-open-5/2026-08-22/
CATEGORIES:Casino Pier
ATTACH;FMTTYPE=image/jpeg:https://casinopiernj.com/wp-content/uploads/2022/03/Arcade-Calendar-2.jpg
END:VEVENT
END:VCALENDAR